BEGIN:VCALENDAR
VERSION:2.0
PRODID:-//Colegio Público Joaquín Costa - ECPv6.15.20//NONSGML v1.0//EN
CALSCALE:GREGORIAN
METHOD:PUBLISH
X-ORIGINAL-URL:https://colegiojoaquincostazaragoza.com
X-WR-CALDESC:Eventos para Colegio Público Joaquín Costa
REFRESH-INTERVAL;VALUE=DURATION:PT1H
X-Robots-Tag:noindex
X-PUBLISHED-TTL:PT1H
BEGIN:VTIMEZONE
TZID:UTC
BEGIN:STANDARD
TZOFFSETFROM:+0000
TZOFFSETTO:+0000
TZNAME:UTC
DTSTART:20150101T000000
END:STANDARD
END:VTIMEZONE
BEGIN:VEVENT
DTSTART;TZID=UTC:20161213T163500
DTEND;TZID=UTC:20161213T180000
DTSTAMP:20260422T050554
CREATED:20161206T153542Z
LAST-MODIFIED:20161206T153542Z
UID:4895-1481646900-1481652000@colegiojoaquincostazaragoza.com
SUMMARY:Concentración por la racionalización de conciertos educativos
DESCRIPTION:
URL:https://colegiojoaquincostazaragoza.com/calendario/concentracion-por-la-racionalizacion-de-conciertos-educativos/
CATEGORIES:Educación
ATTACH;FMTTYPE=image/jpeg:https://colegiojoaquincostazaragoza.com/wp-content/uploads/2016/11/Concentración13dic16.jpg
END:VEVENT
BEGIN:VEVENT
DTSTART;TZID=UTC:20161214T183000
DTEND;TZID=UTC:20161214T200000
DTSTAMP:20260422T050554
CREATED:20161206T153930Z
LAST-MODIFIED:20161206T153930Z
UID:4897-1481740200-1481745600@colegiojoaquincostazaragoza.com
SUMMARY:Manifestación por la racionalización de conciertos educativos
DESCRIPTION:
URL:https://colegiojoaquincostazaragoza.com/calendario/manifestacion-por-la-racionalizacion-de-conciertos-educativos/
CATEGORIES:Educación
ATTACH;FMTTYPE=image/jpeg:https://colegiojoaquincostazaragoza.com/wp-content/uploads/2016/12/CARTEL-14D-copia.jpg
END:VEVENT
END:VCALENDAR